BEGIN:VCALENDAR
VERSION:2.0
PRODID:-//Center for Children&#039;s Literature and Culture - ECPv5.3.2.1//NONSGML v1.0//EN
CALSCALE:GREGORIAN
METHOD:PUBLISH
X-WR-CALNAME:Center for Children&#039;s Literature and Culture
X-ORIGINAL-URL:https://cclc.english.ufl.edu
X-WR-CALDESC:Events for Center for Children&#039;s Literature and Culture
BEGIN:VTIMEZONE
TZID:America/New_York
BEGIN:DAYLIGHT
TZOFFSETFROM:-0500
TZOFFSETTO:-0400
TZNAME:EDT
DTSTART:20150308T070000
END:DAYLIGHT
BEGIN:STANDARD
TZOFFSETFROM:-0400
TZOFFSETTO:-0500
TZNAME:EST
DTSTART:20151101T060000
END:STANDARD
END:VTIMEZONE
BEGIN:VEVENT
DTSTART;TZID=America/New_York:20150413T160000
DTEND;TZID=America/New_York:20150413T170000
DTSTAMP:20210501T234153
CREATED:20141219T162612Z
LAST-MODIFIED:20141219T162645Z
UID:727-1428940800-1428944400@cclc.english.ufl.edu
SUMMARY:Young Adult Reading Group (YARG) Meeting
DESCRIPTION:YARG Meeting \nEvent Type: Book Discussion\nAge Group(s): Adult\, College Students and Faculty\nDate: 4/13/15\nTime: 4:00pm\n \nThe Young Adult Reading Group (YARG) is dedicated to reading and discussing contemporary works of YA fiction in an effort to expose students and faculty to new works\, trends and genres in the field. YARG meets once a month during the school year and weekly during the summer. \nThis meeting\, YARG will be discussing I’ll Meet You There by Heather Demetrios (Released Feb 3\, 2015) \nLocation: Pascal’s Coffee House\nContact: Rebekah Fitzsimmons or Casey Wilson
URL:https://cclc.english.ufl.edu/event/young-adult-reading-group-yarg-meeting-5/
LOCATION:Pascal’s Coffee House\, 112 NW 16th Street\, Gainesville\, FL\, 32603\, United States
ATTACH;FMTTYPE=image/jpeg:https://cclc.english.ufl.edu/files/515Tnk8dp1L.jpg
END:VEVENT
END:VCALENDAR