BEGIN:VCALENDAR
VERSION:2.0
PRODID:-//Center for Children&#039;s Literature and Culture - ECPv5.3.2.1//NONSGML v1.0//EN
CALSCALE:GREGORIAN
METHOD:PUBLISH
X-WR-CALNAME:Center for Children&#039;s Literature and Culture
X-ORIGINAL-URL:http://cclc.english.ufl.edu
X-WR-CALDESC:Events for Center for Children&#039;s Literature and Culture
BEGIN:VTIMEZONE
TZID:America/New_York
BEGIN:DAYLIGHT
TZOFFSETFROM:-0500
TZOFFSETTO:-0400
TZNAME:EDT
DTSTART:20140309T070000
END:DAYLIGHT
BEGIN:STANDARD
TZOFFSETFROM:-0400
TZOFFSETTO:-0500
TZNAME:EST
DTSTART:20141102T060000
END:STANDARD
END:VTIMEZONE
BEGIN:VEVENT
DTSTART;TZID=America/New_York:20140207T100000
DTEND;TZID=America/New_York:20140207T150000
DTSTAMP:20210502T110408
CREATED:20140204T203334Z
LAST-MODIFIED:20140204T203334Z
UID:570-1391767200-1391785200@cclc.english.ufl.edu
SUMMARY:World of The Yearling: Florida in the 1870s Symposium
DESCRIPTION:Check out this upcoming symposium\, co-sponsored by the George A. Smathers Libraries\, Marjorie Kinnan Rawlings Society\, Inc.\, and Friends of the Marjorie Kinnan Rawlings Farm\, Inc. as part of the 75th anniversary celebration of The Year of The Yearling. \nWorld of The Yearling: Florida in the 1870s Symposium  \nFriday\, February 7\, 10:00 a.m. – 3:00 p.m.\nSmathers Library Grand Reading Room\, 2nd floor\n \n10:00-10:05 a.m.\nFlorence Turcotte\, Literary Manuscripts Archivist\, University of Florida\nWelcome and Opening remarks \n10:05-10:15 a.m.\nJudith Russell\, Dean of University Libraries\, University of Florida\nWelcome from the Libraries \n10:15- 10:30 a.m.\nModerator: Ben Brotemarkle\, Ph.D.\, Executive Director\, Florida Historical Society\nIntroductory Remarks \nPresenters:  \n10:30-11 a.m.\nAnne Pierce\, Ph.D.\, Trustee\, Marjorie Kinnan Rawlings Society:\n“Foundations of The Yearling: The Reuben Long Family in the Big Scrub” \n11:00-11:30 a.m.Ben DiBiase\, Educational Resources Coordinator\, Florida Historical Society:\n“Marjorie Kinnan Rawlings and the Florida Historical Society: Correspondence and the Williamson Farm Workbook” \n11:30a.m.-12:00p.m.\nConnie L. Lester\, Ph.D.\, Associate Professor of History\, University of Central Florida\, Editor\, Florida Historical Quarterly and the Director of the Regional Initiative for Collecting the History\, Experiences and Stories (RICHES) of Central Florida:\n“Farming in the Florida Scrub: Subsistence Agriculture in The Yearling” \n12:00-1:00p.m.  Lunch break \n1:00-1:30 p.m.\nSteven G. Noll\, Ph.D.\, Senior Lecturer of History\, University of Florida:\n“Steamboats & Subsistence: The Ever-changing\, ever-static world of the St. Johns-Ocklawaha Basin” \n1:30-2:00p.m.\nPaul Ortiz\, Ph.D.\, Associate Professor of History and Director of the Samuel Proctor Oral History Program\, University of Florida:\n“Florida in Reconstruction and Shortly Thereafter: Forgotten Paths of White and Black Solidarity (And Why We Forgot Them)” \n2:00-2:30p.m.\nJames G. Cusick\, Ph.D\, Curator\, P.K. Yonge Library of Florida History\, University of Florida:\n“Eyewitness Accounts of the 1870s:  The World of The Yearling as Seen by Visitors to Florida” \n2:30-3:00p.m.\nQuestions and comments from the audience \n  \n  \nFree and open to the public. Refreshments will be served. \nProgram co-sponsored by the George A. Smathers Libraries\, Marjorie Kinnan Rawlings Society\, Inc.\, and Friends of the Marjorie Kinnan Rawlings Farm\, Inc.\, and is part of the 75th anniversary celebration of The Year of The Yearling.
URL:http://cclc.english.ufl.edu/event/world-of-the-yearling-florida-in-the-1870s-symposium/
LOCATION:Smathers Library Gallery\, Grand Reading Room\, 2nd Floor
ATTACH;FMTTYPE=image/jpeg:http://cclc.english.ufl.edu/files/crosscreek.jpg
END:VEVENT
END:VCALENDAR