BEGIN:VCALENDAR
VERSION:2.0
PRODID:-//Center for Children&#039;s Literature and Culture - ECPv5.3.2.1//NONSGML v1.0//EN
CALSCALE:GREGORIAN
METHOD:PUBLISH
X-WR-CALNAME:Center for Children&#039;s Literature and Culture
X-ORIGINAL-URL:http://cclc.english.ufl.edu
X-WR-CALDESC:Events for Center for Children&#039;s Literature and Culture
BEGIN:VTIMEZONE
TZID:America/New_York
BEGIN:DAYLIGHT
TZOFFSETFROM:-0500
TZOFFSETTO:-0400
TZNAME:EDT
DTSTART:20160313T070000
END:DAYLIGHT
BEGIN:STANDARD
TZOFFSETFROM:-0400
TZOFFSETTO:-0500
TZNAME:EST
DTSTART:20161106T060000
END:STANDARD
END:VTIMEZONE
BEGIN:VEVENT
DTSTART;TZID=America/New_York:20160412T190000
DTEND;TZID=America/New_York:20160412T210000
DTSTAMP:20210521T112810
CREATED:20160409T163640Z
LAST-MODIFIED:20160409T164912Z
UID:957-1460487600-1460494800@cclc.english.ufl.edu
SUMMARY:Local Children's Authors Night
DESCRIPTION:On Tuesday\, April 12\, at 7:00pm\, the Alachua Country Headquarters Library Branch will host a Local Children’s Authors Night. \nThese 12 Alachua County authors will read from their favorites and discuss their illustrations and inspirations. The featured books include the eclectic mix of these titles:  Be Brave\, Clarissa:  A Dolly Head Adventure\, Extraordinary Annie\, Fraidy Frog Faces Billy Bully Frog\, In and Out the Dragon’s Mouth\, Laurel Finds a Friend\, Lickitysplit the Handicapped Horse\, Memory Land: A Place Where Love Lives On\, One More Scoop\, Please!\, Rani Visits the Taj Mahal\, Rising Young Poets: A Collection of Original Poems\, and Timothy’s Family. \nThey may also offer their books for sale at their tables. \nWe hope to see you there!
URL:http://cclc.english.ufl.edu/event/local-childrens-authors-night/
LOCATION:Headquarters Library\, 401 E University Ave \, Gainesville \, FL\, 32601\, United States
ATTACH;FMTTYPE=image/jpeg:http://cclc.english.ufl.edu/files/2016-local-author-flyer-2.jpg
ORGANIZER;CN="Laurie%20May":MAILTO:lmay AT aclib.us
END:VEVENT
END:VCALENDAR